BEGIN:VCALENDAR
VERSION:2.0
PRODID:-//Junior Auxiliary of Cleveland, TN - ECPv6.15.20//NONSGML v1.0//EN
CALSCALE:GREGORIAN
METHOD:PUBLISH
X-ORIGINAL-URL:https://www.jaofclevelandtn.com
X-WR-CALDESC:Events for Junior Auxiliary of Cleveland, TN
REFRESH-INTERVAL;VALUE=DURATION:PT1H
X-Robots-Tag:noindex
X-PUBLISHED-TTL:PT1H
BEGIN:VTIMEZONE
TZID:America/New_York
BEGIN:DAYLIGHT
TZOFFSETFROM:-0500
TZOFFSETTO:-0400
TZNAME:EDT
DTSTART:20230312T070000
END:DAYLIGHT
BEGIN:STANDARD
TZOFFSETFROM:-0400
TZOFFSETTO:-0500
TZNAME:EST
DTSTART:20231105T060000
END:STANDARD
BEGIN:DAYLIGHT
TZOFFSETFROM:-0500
TZOFFSETTO:-0400
TZNAME:EDT
DTSTART:20240310T070000
END:DAYLIGHT
BEGIN:STANDARD
TZOFFSETFROM:-0400
TZOFFSETTO:-0500
TZNAME:EST
DTSTART:20241103T060000
END:STANDARD
BEGIN:DAYLIGHT
TZOFFSETFROM:-0500
TZOFFSETTO:-0400
TZNAME:EDT
DTSTART:20250309T070000
END:DAYLIGHT
BEGIN:STANDARD
TZOFFSETFROM:-0400
TZOFFSETTO:-0500
TZNAME:EST
DTSTART:20251102T060000
END:STANDARD
BEGIN:DAYLIGHT
TZOFFSETFROM:-0500
TZOFFSETTO:-0400
TZNAME:EDT
DTSTART:20260308T070000
END:DAYLIGHT
BEGIN:STANDARD
TZOFFSETFROM:-0400
TZOFFSETTO:-0500
TZNAME:EST
DTSTART:20261101T060000
END:STANDARD
BEGIN:DAYLIGHT
TZOFFSETFROM:-0500
TZOFFSETTO:-0400
TZNAME:EDT
DTSTART:20270314T070000
END:DAYLIGHT
BEGIN:STANDARD
TZOFFSETFROM:-0400
TZOFFSETTO:-0500
TZNAME:EST
DTSTART:20271107T060000
END:STANDARD
END:VTIMEZONE
BEGIN:VEVENT
DTSTART;TZID=America/New_York:20240921T090000
DTEND;TZID=America/New_York:20240921T120000
DTSTAMP:20260422T180617
CREATED:20240815T181825Z
LAST-MODIFIED:20240912T124655Z
UID:1712-1726909200-1726920000@www.jaofclevelandtn.com
SUMMARY:Teddy Bear Picnic
DESCRIPTION:This free event is for children from the ages 4-7. We do games\, crafts\, activities\, and also provide each child with a new book and a snack pack. It is our longest running active project\, spanning 26 years!
URL:https://www.jaofclevelandtn.com/event/teddy-bear-picnic/
LOCATION:Cleveland Bradley Public Library\, 795 Church St NE\, Cleveland\, TN\, 37311\, United States
END:VEVENT
BEGIN:VEVENT
DTSTART;TZID=America/New_York:20250326T160000
DTEND;TZID=America/New_York:20250329T210000
DTSTAMP:20260422T180617
CREATED:20250317T152412Z
LAST-MODIFIED:20250319T234913Z
UID:1769-1743004800-1743282000@www.jaofclevelandtn.com
SUMMARY:Blossom and Bloom Silent Auction
DESCRIPTION:We are so excited to host our annual spring auction online! \n\nBidding begins on March 26 at 4 PM.\nBidding ends on March 29 at 9 PM.\n\nPick up all items in the Community Room at Cleveland Bradley County Public Library on Sunday\, March 30 from 2-5 PM.
URL:https://www.jaofclevelandtn.com/event/blossom-and-bloom-silent-auction/
CATEGORIES:Event
END:VEVENT
BEGIN:VEVENT
DTSTART;TZID=America/New_York:20250806T120000
DTEND;TZID=America/New_York:20250806T210000
DTSTAMP:20260422T180617
CREATED:20250731T014255Z
LAST-MODIFIED:20250731T014255Z
UID:1856-1754481600-1754514000@www.jaofclevelandtn.com
SUMMARY:Whit's Spirit Day
DESCRIPTION:
URL:https://www.jaofclevelandtn.com/event/whits-spirit-day/
LOCATION:Whits of Cleveland\, 3850 Keith St NW\, Cleveland\, TN\, 37312
END:VEVENT
BEGIN:VEVENT
DTSTART;TZID=America/New_York:20250920T080000
DTEND;TZID=America/New_York:20250920T120000
DTSTAMP:20260422T180617
CREATED:20250731T014020Z
LAST-MODIFIED:20250731T014026Z
UID:1854-1758355200-1758369600@www.jaofclevelandtn.com
SUMMARY:Teddy Bear Picnic
DESCRIPTION:
URL:https://www.jaofclevelandtn.com/event/teddy-bear-picnic-2/
LOCATION:Cleveland Bradley Public Library\, 795 Church St NE\, Cleveland\, TN\, 37311\, United States
CATEGORIES:Event
END:VEVENT
BEGIN:VEVENT
DTSTART;TZID=America/New_York:20260326T180000
DTEND;TZID=America/New_York:20260328T200000
DTSTAMP:20260422T180617
CREATED:20260127T182849Z
LAST-MODIFIED:20260127T194916Z
UID:1869-1774548000-1774728000@www.jaofclevelandtn.com
SUMMARY:Bid Madness Silent Auction
DESCRIPTION:We are so excited to host our annual spring auction online! \n\nBidding begins on March 26 at 6 PM.\nBidding ends on March 28 at 8 PM.\n\nPick up all items in the Ocoee Middle School Library on Sunday\, March 29 from 2-5 PM.
URL:https://www.jaofclevelandtn.com/event/bid-madness-silent-auction/
CATEGORIES:Event
END:VEVENT
END:VCALENDAR